BEGIN:VCALENDAR
VERSION:2.0
PRODID:-//hacksw/handcal//NONSGML v1.0//EN
BEGIN:VEVENT
UID:a65b50487d4f408dbc4ab2c992375ceb@saracms.com
DTSTAMP:20260422T130340Z
DTSTART:20260427T143000Z
DTEND:20260427T160000Z
SUMMARY:Conferencias de los lunes:"Abogacía e IA, los retos probatorios que plantean los deepfakes"
LOCATION:Consejo General de la Abogacia Española : online
DESCRIPTION:Consejo General de la Abogacia Española : online 16:30 a 18:00
END:VEVENT
END:VCALENDAR