BEGIN:VCALENDAR
VERSION:2.0
PRODID:-//hacksw/handcal//NONSGML v1.0//EN
BEGIN:VEVENT
UID:ee73b44a45bb6706ce4e43f2d42e0b65@saracms.com
DTSTAMP:20260420T160918Z
DTSTART:20260422T073000Z
DTEND:20260421T220000Z
SUMMARY:Jornada sobre el Real Decreto 316/2026. Regularizacion extraordinaria de personas migrantes
LOCATION:Consejo General de la Abogacía. Online
DESCRIPTION:Consejo General de la Abogacía. Online 09:30
END:VEVENT
END:VCALENDAR