BEGIN:VCALENDAR
VERSION:2.0
PRODID:-//hacksw/handcal//NONSGML v1.0//EN
BEGIN:VEVENT
UID:ab89f8570e63f74b0a5c4172f022a6d4@saracms.com
DTSTAMP:20260422T130303Z
DTSTART:20260427T153000Z
DTEND:20260426T220000Z
SUMMARY:Funcionamiento y buenas prácticas del punto de encuentro familiar
LOCATION:Colegio de la Abogacia de Valladolid
DESCRIPTION:Colegio de la Abogacia de Valladolid 17:30
END:VEVENT
END:VCALENDAR