BEGIN:VCALENDAR
VERSION:2.0
PRODID:-//hacksw/handcal//NONSGML v1.0//EN
BEGIN:VEVENT
UID:9025d9deeec6767a7fae61f1df2ebbb0@saracms.com
DTSTAMP:20260422T130616Z
DTSTART:20260429T100000Z
DTEND:20260428T220000Z
SUMMARY:Jornada formativa sobre la pasarela al RETA
LOCATION:Colegio de la Abogacía de Valladolid
DESCRIPTION:Colegio de la Abogacía de Valladolid 12:00
END:VEVENT
END:VCALENDAR